BEGIN:VCALENDAR
VERSION:2.0
PRODID:DPCALENDAR
CALSCALE:GREGORIAN
BEGIN:VTIMEZONE
TZID:America/Chicago
X-MICROSOFT-CDO-TZID:11
BEGIN:STANDARD
DTSTART:20251102T070000
TZOFFSETFROM:-0500
TZOFFSETTO:-0600
TZNAME:CST
END:STANDARD
BEGIN:DAYLIGHT
DTSTART:20260308T080000
TZOFFSETFROM:-0600
TZOFFSETTO:-0500
TZNAME:CDT
END:DAYLIGHT
BEGIN:STANDARD
DTSTART:20261101T070000
TZOFFSETFROM:-0500
TZOFFSETTO:-0600
TZNAME:CST
END:STANDARD
END:VTIMEZONE
X-WR-TIMEZONE:America/Chicago
BEGIN:VEVENT
DTSTART;TZID=America/Chicago:20260516T130000
DTEND;TZID=America/Chicago:20260516T180000
UID:018a900d44ce0d70c1b9743d3de833a5
SUMMARY:Spring 5 (FWD)
DTSTAMP:20260420T162538Z
DESCRIPTION:Forward race. \NRace Director G Dukette\NMaxwell Paper Products Powder Puff Race
X-ALT-DESC;FMTTYPE=text/html:Forward race. <br />Race Director G Dukette<br />Maxwell Paper Products Powder Puff Race
LOCATION:3738 Memory Lane\, 76207 Denton\, Texas\, United States
GEO:33.30648080;-97.18946570
X-ACCESS:1
X-HITS:0
X-URL:https://www.google.com/calendar/event?eid=MmJlNDZhMjVhYWE3ZDgyMjduOWdzMGVjcjggNjJiYmZpcHBsYmVlcDBoc2hhNnZjZ2dzM2tAZw
X-COLOR:dc2127
END:VEVENT
END:VCALENDAR